BEGIN:VCALENDAR
VERSION:2.0
PRODID:-//NAACP - State Area Conference - Alaska Oregon Washington - ECPv6.15.20//NONSGML v1.0//EN
CALSCALE:GREGORIAN
METHOD:PUBLISH
X-ORIGINAL-URL:https://naacpaowsac.org
X-WR-CALDESC:Events for NAACP - State Area Conference - Alaska Oregon Washington
REFRESH-INTERVAL;VALUE=DURATION:PT1H
X-Robots-Tag:noindex
X-PUBLISHED-TTL:PT1H
BEGIN:VTIMEZONE
TZID:America/Los_Angeles
BEGIN:DAYLIGHT
TZOFFSETFROM:-0800
TZOFFSETTO:-0700
TZNAME:PDT
DTSTART:20240310T100000
END:DAYLIGHT
BEGIN:STANDARD
TZOFFSETFROM:-0700
TZOFFSETTO:-0800
TZNAME:PST
DTSTART:20241103T090000
END:STANDARD
BEGIN:DAYLIGHT
TZOFFSETFROM:-0800
TZOFFSETTO:-0700
TZNAME:PDT
DTSTART:20250309T100000
END:DAYLIGHT
BEGIN:STANDARD
TZOFFSETFROM:-0700
TZOFFSETTO:-0800
TZNAME:PST
DTSTART:20251102T090000
END:STANDARD
BEGIN:DAYLIGHT
TZOFFSETFROM:-0800
TZOFFSETTO:-0700
TZNAME:PDT
DTSTART:20260308T100000
END:DAYLIGHT
BEGIN:STANDARD
TZOFFSETFROM:-0700
TZOFFSETTO:-0800
TZNAME:PST
DTSTART:20261101T090000
END:STANDARD
END:VTIMEZONE
BEGIN:VEVENT
DTSTART;TZID=America/Los_Angeles:20251118T110000
DTEND;TZID=America/Los_Angeles:20251118T130000
DTSTAMP:20260419T074547
CREATED:20260129T151214Z
LAST-MODIFIED:20260129T151214Z
UID:24718-1763463600-1763470800@naacpaowsac.org
SUMMARY:ACEs & Racial Trauma: A Conversation on Healing and Equity
DESCRIPTION:📅 Date: November 18\, 2025\n🕒 Time: 11:00 AM – 1:00 PM PST\n📍 Location: Virtual Event \n\nThe NAACP Alaska\, Oregon\, Washington State-Area Conference and the Therapy Fund Foundation invite you to a powerful and necessary conversation on healing and equity. Join us for a free virtual event where we will explore the critical intersection of Adverse Childhood Experiences (ACEs) and racial trauma. \nThis timely discussion will feature national leader on ACEs\, Dr. Nadine Burke Harris\, alongside our own NAACP AOWSAC Health Chair\, Ashley McGirt-Adair\, MSW\, LICSW. They will share invaluable insights on how toxic stress and systemic inequities impact the long-term health of Black and historically excluded communities. Understanding this intersection is essential to our mission of advancing justice\, promoting health equity\, and fostering collective healing. \n\nSecure Your Spot\nThis virtual event is free to attend\, but registration is required. Reserve your spot today to be part of this crucial dialogue. \nRegister Here \n\n\nWorkshop Objectives\nThis conversation is designed to provide attendees with knowledge and tools to create meaningful change. Key objectives include: \n\n\n\nUnderstand ACEs and their lifelong impact.\nExplore how racial trauma compounds ACEs.\nGain equity-centered tools for leaders\, educators\, and clinicians.\nBuild dialogue and solutions for healing and systemic change.\n\n\n\n\n\nMeet Our Esteemed Speakers\nDr. Nadine Burke Harris is a pioneering pediatrician\, author\, and a national leader on Adverse Childhood Experiences (ACEs). Her work has been instrumental in highlighting the connection between childhood trauma\, toxic stress\, and long-term health outcomes. \nAshley McGirt-Adair\, MSW\, LICSW\, is a respected therapist\, author of “The Cost of Healing in Silence\,” CEO of the Therapy Fund Foundation\, and serves as the NAACP AOWSAC Health Chair. She is a dedicated advocate for culturally responsive mental healthcare and racial equity. \nTo learn more about Dr. Burke Harris’s groundbreaking work\, we encourage you to watch her powerful TED Talk. \nWatch The TED Talk Here
URL:https://naacpaowsac.org/event/aces-racial-trauma-a-conversation-on-healing-and-equity/
LOCATION:Virtual Event
CATEGORIES:Events
ATTACH;FMTTYPE=image/png:https://naacpaowsac.org/wp-content/uploads/2025/10/unnamed.png
END:VEVENT
END:VCALENDAR