BEGIN:VCALENDAR
VERSION:2.0
PRODID:-//NAACP - State Area Conference - Alaska Oregon Washington - ECPv6.15.20//NONSGML v1.0//EN
CALSCALE:GREGORIAN
METHOD:PUBLISH
X-ORIGINAL-URL:https://naacpaowsac.org
X-WR-CALDESC:Events for NAACP - State Area Conference - Alaska Oregon Washington
REFRESH-INTERVAL;VALUE=DURATION:PT1H
X-Robots-Tag:noindex
X-PUBLISHED-TTL:PT1H
BEGIN:VTIMEZONE
TZID:UTC
BEGIN:STANDARD
TZOFFSETFROM:+0000
TZOFFSETTO:+0000
TZNAME:UTC
DTSTART:20240101T000000
END:STANDARD
END:VTIMEZONE
BEGIN:VEVENT
DTSTART;TZID=UTC:20251004T090000
DTEND;TZID=UTC:20251004T130000
DTSTAMP:20260419T091918
CREATED:20260129T151214Z
LAST-MODIFIED:20260129T151214Z
UID:24732-1759568400-1759582800@naacpaowsac.org
SUMMARY:NAACP Supports: Freedom Run 5K for Women's Health & Wellness
DESCRIPTION:📅 Date: Saturday\, October 4\, 2025 \n🕒 Time: 9:00 AM – 1:00 PM PDT \n📍 Location: Ebey Waterfront Park\, 1404 1st Street\, Marysville\, WA \n\nThe NAACP is proud to support the Freedom Run Women’s Health and Family Wellness 5K\, an inspiring community event organized by BRE Innovative Solutions. This run brings together families\, schools\, and communities to uplift and champion the cause of women’s health and wellness right here in Snohomish County. \nThis family-friendly event is more than just a 5K; it’s a movement to create a healthier future for women\, families\, and students. By participating\, you contribute to a vital community goal: raising funds to allow students from the Marysville\, Arlington\, and Lake Stevens school districts to join in for free. Let’s come together to make a tangible impact. \n\nRegister to Participate\nWhether you walk\, run\, or cheer\, your participation matters. Sign up today to be part of this wonderful health and wellness event. \nRegister Here on Eventbrite \n\n\nEvent Goals & Community Impact\nThe Freedom Run 5K is focused on achieving key goals for our community: \n\n\n\nUplifting women’s health and promoting family wellness.\nBringing diverse communities and local schools together for a positive cause.\nRaising funds to ensure students in local districts can participate for free.\nFostering a healthier\, more connected future for Snohomish County.\n\n\n\n\n\nLearn More and Get in Touch\nFor more details about the Freedom Run 5K\, including sponsorship opportunities and event specifics\, please visit the official event page. For direct inquiries\, you can email the organizing team. \nVisit the Official Event Website \nEmail Contact: contactus@bre-is.com
URL:https://naacpaowsac.org/event/naacp-supports-freedom-run-5k-for-womens-health-wellness/
LOCATION:Ebey Waterfront Park\, 1404 1st Street\, Marysville\, WA\, United States
CATEGORIES:Events
ATTACH;FMTTYPE=image/png:https://naacpaowsac.org/wp-content/uploads/2025/10/Gemini_Generated_Image_epd9teepd9teepd9-Photoroom.png
END:VEVENT
BEGIN:VEVENT
DTSTART;TZID=UTC:20251004T090000
DTEND;TZID=UTC:20251004T150000
DTSTAMP:20260419T091918
CREATED:20260129T151214Z
LAST-MODIFIED:20260129T151214Z
UID:24728-1759568400-1759590000@naacpaowsac.org
SUMMARY:BACPAC Symposium: Advancing Prostate Cancer Equity
DESCRIPTION:📅 Date: Saturday\, October 4\, 2025 \n🕒 Time: 9:00 AM – 3:00 PM PST \n📍 Location: Fred Hutch Cancer Center & Virtual (Hybrid Event) \n\nThe NAACP is proud to support the Third Annual BACPAC Community Prostate Cancer Research Symposium. Hosted by the Black and African-Descent Collaborative for Prostate Cancer ACtion (BACPAC)\, this vital event is dedicated to learning\, community building\, and advancing equity in prostate cancer research and treatment. \nJoin leading experts\, researchers\, and community advocates for a day of empowering discussion and knowledge-sharing. This hybrid event offers both in-person attendance at the Fred Hutch Cancer Center and a virtual option via Zoom\, ensuring everyone can be part of this important conversation. Together\, we can address disparities and create better health outcomes for our communities. \n\nRegister for this Free Event\nAttendance is free\, but registration is required. Secure your spot to help shape the future of prostate cancer equity. \nRegister Here \n\n\nAbout the Symposium\nThe BACPAC Symposium is a cornerstone event for raising awareness and fostering collaboration to combat one of the most significant health disparities affecting Black men. This event will cover: \n\n\n\nThe latest in prostate cancer research and treatment.\nStrategies to overcome systemic barriers in healthcare.\nThe importance of community involvement in research.\nBuilding networks for support and advocacy.\n\n\n\n\n\nLearn More and Get Involved\nFor additional details about the symposium\, including the full agenda and speaker lineup\, please visit the official event page at Fred Hutch. \nVisit the Fred Hutch Event Page
URL:https://naacpaowsac.org/event/bacpac-symposium-advancing-prostate-cancer-equity/
LOCATION:Fred Hutch Cancer Center & Virtual\, 1100 Fairview Ave N\, Seattle\, WA\, 98109\, United States
ATTACH;FMTTYPE=image/png:https://naacpaowsac.org/wp-content/uploads/2025/10/Gemini_Generated_Image_onese0onese0ones.png
END:VEVENT
BEGIN:VEVENT
DTSTART;TZID=UTC:20251009T180000
DTEND;TZID=UTC:20251009T200000
DTSTAMP:20260419T091918
CREATED:20260129T151214Z
LAST-MODIFIED:20260129T151214Z
UID:24875-1760032800-1760040000@naacpaowsac.org
SUMMARY:Inauguration Day: Swearing-in Ceremony of the Executive Committee & President Sheley Secrest
DESCRIPTION:📅 Date: Thursday\, October 9\, 2025 \n🕒 Time: 6:00 PM PDT \n📍 Location: Virtual Attendance via Facebook Live \n\nJoin us for a momentous occasion as the NAACP Alaska Oregon Washington State-Area Conference proudly presents its Inauguration Day Swearing-in Ceremony of the Executive Committee. This significant event marks the official commencement of a new chapter of leadership and dedication to our mission. \nWe invite you to virtually witness the swearing-in of our Executive Committee\, and to formally welcome our new President\, Sheley Secrest. Your presence on our Facebook Live stream will add to the gravitas of this special evening as we honor our incoming leaders who are committed to fighting for civil rights and advancing Black lives across Alaska\, Oregon\, and Washington. \n\nWatch the Ceremony Live\nThis event will be held exclusively online and streamed via Facebook Live. Click the link below to join the event page. \nJoin on Facebook Live \n\n\nA New Chapter of Leadership\nThe Executive Committee and President Sheley Secrest are prepared to uphold the principles of justice and equality that define the NAACP. This ceremony is not just a formality; it is a reaffirmation of our collective commitment to progress and empowerment in our communities. \nWe encourage all members and supporters to virtually attend and show their support for our incoming leadership. Let us stand together as we embark on this renewed journey. \n\n\nConnect With Us\nStay updated on event details and connect with the NAACP AOWSAC on our official Facebook page: \nFacebook
URL:https://naacpaowsac.org/event/inauguration-day-swearing-in-ceremony-of-the-executive-committee-president-sheley-secrest/
LOCATION:Virtual Event
CATEGORIES:Events
ATTACH;FMTTYPE=image/jpeg:https://naacpaowsac.org/wp-content/uploads/2025/10/549275910_10234045338809532_3112662340296840300_n.jpg
END:VEVENT
BEGIN:VEVENT
DTSTART;TZID=UTC:20251029T080000
DTEND;TZID=UTC:20251029T170000
DTSTAMP:20260419T091918
CREATED:20260129T151214Z
LAST-MODIFIED:20260129T151214Z
UID:24753-1761724800-1761757200@naacpaowsac.org
SUMMARY:NAACP Vancouver Hosts City Council Candidate Forum
DESCRIPTION:📅 Date: Wednesday\, October 29\, 2025 \n🕒 Time: Doors Open: 6:00 PM\, Forum Begins: 6:30 PM \n📍 Location: Fourth Plain Commons\, 3101 E Fourth Plain Blvd\, Vancouver\, WA \n\nEngage. Ask. Decide. Join the NAACP Vancouver Branch and the SW WA LULAC Council for a vital Vancouver City Council Candidate Forum. This is a crucial opportunity for the community to hear directly from the candidates seeking to lead our city and to gain the insights needed to make informed decisions about Vancouver’s future. \nThis public forum provides a platform for direct dialogue with candidates for Mayor and City Council Position 1. Come prepared to listen\, ask thoughtful questions\, and participate in the democratic process that shapes our community. Your voice matters\, and your presence strengthens our civic fabric. \n\nEvent is Free and Open to the Public\nThis event is open to all members of the public. No registration is required to attend and participate in this important civic event. \n\n\nCandidates in Attendance\nHear from the candidates running for key city positions: \n\n\n\nMayor: Anne McEnerny-Ogle (Incumbent) and Justin M. Forsman\nCity Council Position 1: Kim Harless Felix (Incumbent) and Pooneh Gray\n\n\n\n\n\nModerated By\nThe forum will be moderated by esteemed community leaders: \nRev. Michael Jones Jr.\, Vice President\, NAACP Vancouver Branch \nMr. Eduardo Torres\, Vice President\, SW LULAC Council \nFor more information\, please contact Rev. Michael Jones Jr. at vicepresident@naacpvancouverwa.org.
URL:https://naacpaowsac.org/event/naacp-vancouver-hosts-city-council-candidate-forum/
LOCATION:Fourth Plain Commons\, 3101 E Fourth Plain Blvd\, Vancouver\, WA\, United States
CATEGORIES:Events
ATTACH;FMTTYPE=image/png:https://naacpaowsac.org/wp-content/uploads/2025/10/Gemini.png
END:VEVENT
END:VCALENDAR