BEGIN:VCALENDAR
VERSION:2.0
PRODID:-//NAACP - State Area Conference - Alaska Oregon Washington - ECPv6.15.20//NONSGML v1.0//EN
CALSCALE:GREGORIAN
METHOD:PUBLISH
X-ORIGINAL-URL:https://naacpaowsac.org
X-WR-CALDESC:Events for NAACP - State Area Conference - Alaska Oregon Washington
REFRESH-INTERVAL;VALUE=DURATION:PT1H
X-Robots-Tag:noindex
X-PUBLISHED-TTL:PT1H
BEGIN:VTIMEZONE
TZID:UTC
BEGIN:STANDARD
TZOFFSETFROM:+0000
TZOFFSETTO:+0000
TZNAME:UTC
DTSTART:20240101T000000
END:STANDARD
END:VTIMEZONE
BEGIN:VEVENT
DTSTART;TZID=UTC:20250405T101500
DTEND;TZID=UTC:20250405T120000
DTSTAMP:20260419T184824
CREATED:20260129T151213Z
LAST-MODIFIED:20260129T151213Z
UID:23359-1743848100-1743854400@naacpaowsac.org
SUMMARY:Legislative Update – Talk with Elected Leaders
DESCRIPTION:Legislative Update – Talk with Elected Leaders \n📅 Dates: March 8\, April 5\, May 3\, June 7\, 2025\n⏰ Time: 10:15 AM\n📍 Location: Kalapuya Building\, 4500 SW Research Way\, Corvallis\, OR\n🔹 Virtual Option Available: Join via Zoom \nStay informed and engaged with your elected representatives! Join the League of Women Voters of Corvallis for a Legislative Update to hear directly from state legislators about the 2025 Legislative Session. \nInvited legislators:\n✔️ Senator Sara Gelser Blouin\n✔️ Senator Dick Anderson\n✔️ Representative Sarah Finger McDonald\n✔️ Representative David Gomberg\n✔️ Representative Shelly Boshart Davis \n🔹 Get updates on current legislative actions and have your questions answered. \nWant to check on introduced bills? Visit OLIS for legislative tracking. \n📌 Attend in person or join virtually! \nFor more details\, visit LWVCorvallis.org.
URL:https://naacpaowsac.org/event/legislative-update-talk-with-elected-leaders-3/
LOCATION:Kalapuya Building\, 4500 SW Research Way\, Corvallis\, OR\, United States
CATEGORIES:NAACP
ATTACH;FMTTYPE=image/jpeg:https://naacpaowsac.org/wp-content/uploads/2025/05/unnamed-3.jpg
END:VEVENT
BEGIN:VEVENT
DTSTART;TZID=UTC:20250406T190000
DTEND;TZID=UTC:20250406T200000
DTSTAMP:20260419T184824
CREATED:20260129T151213Z
LAST-MODIFIED:20260129T151213Z
UID:23358-1743966000-1743969600@naacpaowsac.org
SUMMARY:Status of Black Women – Zoom Community Conversation
DESCRIPTION:Join us for an insightful and engaging Zoom community conversation exploring the current status of Black women. This timely discussion will bring together powerful voices from across the region to address the realities\, resilience\, and future of Black women in our communities. \nDate: Sunday\, April 6\nTime: 7:00 PM – 8:00 PM (PT)\nLocation: Online via Zoom \nZoom Registration Link:\nRegister here to attend the event. \nModerator:\nDr. Kristina Mason\nDr. Mason’s expertise spans executive advisory roles\, district leadership\, and program development. \nFeatured Panelists: \n\nSheley Seacrest – President\, State Area Conference\, NAACP Alaska\, Oregon\, WA\nOuida Morrison – Chair\, ABC Economics Committee\nDr. Yolanda Ikner – President\, Delta Sigma Theta Sorority\, Inc.\, Alaska Alumnae Chapter\n\nDon’t miss this powerful conversation on the voices\, visibility\, and victories of Black women. \nFor access to the conversation\, make sure to register via Zoom here.
URL:https://naacpaowsac.org/event/status-of-black-women-zoom-community-conversation/
LOCATION:Zoom\, Zoom\, Remote\, United States
CATEGORIES:NAACP
ATTACH;FMTTYPE=image/jpeg:https://naacpaowsac.org/wp-content/uploads/2025/05/d402444e-d44f-47f7-b14c-cd0405ccd697.jpg
END:VEVENT
END:VCALENDAR