BEGIN:VCALENDAR
VERSION:2.0
PRODID:-//NAACP - State Area Conference - Alaska Oregon Washington - ECPv6.15.20//NONSGML v1.0//EN
CALSCALE:GREGORIAN
METHOD:PUBLISH
X-WR-CALNAME:NAACP - State Area Conference - Alaska Oregon Washington
X-ORIGINAL-URL:https://naacpaowsac.org
X-WR-CALDESC:Events for NAACP - State Area Conference - Alaska Oregon Washington
REFRESH-INTERVAL;VALUE=DURATION:PT1H
X-Robots-Tag:noindex
X-PUBLISHED-TTL:PT1H
BEGIN:VTIMEZONE
TZID:UTC
BEGIN:STANDARD
TZOFFSETFROM:+0000
TZOFFSETTO:+0000
TZNAME:UTC
DTSTART:20240101T000000
END:STANDARD
END:VTIMEZONE
BEGIN:VEVENT
DTSTART;TZID=UTC:20250118T090000
DTEND;TZID=UTC:20250118T110000
DTSTAMP:20260419T140049
CREATED:20260129T151212Z
LAST-MODIFIED:20260129T151212Z
UID:23377-1737190800-1737198000@naacpaowsac.org
SUMMARY:Seattle Women’s March – Stand for Equality & Justice
DESCRIPTION: Event Details: \n📅 Date: January 18\, 2025\n⏰ Time: 9:00 AM\n📍 Location: Cal Anderson Park\, 1635 11th Ave\, Seattle\, WA 98122\n🎤 Featured Speaker: Sheley Secrest \nJoin the NAACP Alaska\, Oregon\, Washington State Area Conference (AOWSAC) and community leaders for the Seattle Women’s March as we stand together for equality\, justice\, and women’s rights. This powerful event will bring people from all walks of life together to amplify voices\, advocate for change\, and demonstrate that the power of the people is stronger than the people in power. \nWith Sheley Secrest as our featured speaker\, expect an inspiring message that will empower and unite us in the fight for social justice. \nLet’s march forward in solidarity—because when we come together\, we create lasting change. \n🔹 Join us and make a difference! \nFor more information and updates\, visit NAACPAOWSAC.org.
URL:https://naacpaowsac.org/event/seattle-womens-march-stand-for-equality-justice/
LOCATION:Cal Anderson Park\, 1635 11th Ave\, Seattle\, WA\, 98122\, United States
CATEGORIES:NAACP
ATTACH;FMTTYPE=image/jpeg:https://naacpaowsac.org/wp-content/uploads/2025/05/unnamed-1-2048x1463-1.jpg
END:VEVENT
END:VCALENDAR