BEGIN:VCALENDAR
VERSION:2.0
PRODID:-//NAACP - State Area Conference - Alaska Oregon Washington - ECPv6.15.20//NONSGML v1.0//EN
CALSCALE:GREGORIAN
METHOD:PUBLISH
X-WR-CALNAME:NAACP - State Area Conference - Alaska Oregon Washington
X-ORIGINAL-URL:https://naacpaowsac.org
X-WR-CALDESC:Events for NAACP - State Area Conference - Alaska Oregon Washington
REFRESH-INTERVAL;VALUE=DURATION:PT1H
X-Robots-Tag:noindex
X-PUBLISHED-TTL:PT1H
BEGIN:VTIMEZONE
TZID:UTC
BEGIN:STANDARD
TZOFFSETFROM:+0000
TZOFFSETTO:+0000
TZNAME:UTC
DTSTART:20230101T000000
END:STANDARD
END:VTIMEZONE
BEGIN:VEVENT
DTSTART;TZID=UTC:20241105T190000
DTEND;TZID=UTC:20241105T210000
DTSTAMP:20260419T104246
CREATED:20260129T151212Z
LAST-MODIFIED:20260129T151212Z
UID:23389-1730833200-1730840400@naacpaowsac.org
SUMMARY:Election Night Watch Party
DESCRIPTION: Date: November 5\, 2024\n Time: 7:00 PM PST\n Location: First & Bell\, 2218 1st Ave\, Seattle\, WA \nJoin us for the NAACP State Area Conference’s Election Night Watch Party as we come together to watch the election results live! Gather with friends\, engage in conversations\, and share in the excitement as we witness the outcomes that shape our community and country. \nDon’t miss this chance to connect\, celebrate\, and stay informed with fellow community members. \n#NAACPStateAreaConference #ElectionNight2024 #SeattleEvents #CommunityMatters #YourVoteCounts #CivicEngagement #ElectionWatchParty #TogetherWeStand #DemocracyInAction #SeattleCommunity
URL:https://naacpaowsac.org/event/election-night-watch-party/
LOCATION:First & Bell\, 2218 1st Ave\, Seattle\, WA\, United States
CATEGORIES:NAACP
ATTACH;FMTTYPE=image/jpeg:https://naacpaowsac.org/wp-content/uploads/2025/05/1c02766b-ee09-4811-83e7-1543c7772124.jpg
END:VEVENT
BEGIN:VEVENT
DTSTART;TZID=UTC:20241109T170000
DTEND;TZID=UTC:20241109T210000
DTSTAMP:20260419T104246
CREATED:20260129T151212Z
LAST-MODIFIED:20260129T151212Z
UID:23388-1731171600-1731186000@naacpaowsac.org
SUMMARY:NAACP Spokane Freedom Fund Gala 2024
DESCRIPTION:🗓 Date: November 9\, 2024\n⏰ Time: 5:00 PM – 9:00 PM PST\n📍 Location: DoubleTree Hotel\, 322 N Spokane Falls Blvd \nJoin us for the NAACP Spokane Branch’s annual Freedom Fund Gala\, a fundraiser supporting scholarships for local high school students entering higher education. This event helps further the NAACP’s mission of promoting civil rights and combating racial inequality. Enjoy an evening of recognition\, celebration\, and support for justice as we honor outstanding individuals and organizations contributing to the fight for civil rights. \nPre-sale tickets are available starting September 1st. Prices increase after October 1st\, so be sure to secure your spot early! \n#NAACPSpokane\, #FreedomFundGala\, #CivilRights\, #JusticeForAll\, #EqualityMatters\, #Scholarships\, #EducationForAll\, #SpokaneEvents\, #FightForJustice\, #CommunitySupport
URL:https://naacpaowsac.org/event/naacp-spokane-freedom-fund-gala-2024/
LOCATION:DoubleTree Hotel\, 322 N Spokane Falls Blvd\, United States
CATEGORIES:NAACP
ATTACH;FMTTYPE=image/jpeg:https://naacpaowsac.org/wp-content/uploads/2025/05/Event-1.jpg
END:VEVENT
END:VCALENDAR