BEGIN:VCALENDAR
VERSION:2.0
PRODID:-//NAACP - State Area Conference - Alaska Oregon Washington - ECPv6.15.20//NONSGML v1.0//EN
CALSCALE:GREGORIAN
METHOD:PUBLISH
X-WR-CALNAME:NAACP - State Area Conference - Alaska Oregon Washington
X-ORIGINAL-URL:https://naacpaowsac.org
X-WR-CALDESC:Events for NAACP - State Area Conference - Alaska Oregon Washington
REFRESH-INTERVAL;VALUE=DURATION:PT1H
X-Robots-Tag:noindex
X-PUBLISHED-TTL:PT1H
BEGIN:VTIMEZONE
TZID:UTC
BEGIN:STANDARD
TZOFFSETFROM:+0000
TZOFFSETTO:+0000
TZNAME:UTC
DTSTART:20240101T000000
END:STANDARD
END:VTIMEZONE
BEGIN:VEVENT
DTSTART;TZID=UTC:20251228T180000
DTEND;TZID=UTC:20251228T200000
DTSTAMP:20260424T175415
CREATED:20260129T151214Z
LAST-MODIFIED:20260129T151214Z
UID:25763-1766944800-1766952000@naacpaowsac.org
SUMMARY:2026 LGBTQ Policy Agenda Think Tank Session
DESCRIPTION:The NAACP Alaska Oregon Washington State Area Conference (AOWSAC) is proud to present the 2026 LGBTQ Policy Agenda Think Tank Session\, in collaboration with the Black Prisoners Caucus and SURGE (Surge for Justice). \nAs we approach the upcoming legislative session\, it is imperative that we mobilize to shape the 2025–2027 LGBTQ Policy Agenda. This session is designed to center the lived experiences of our communities and ensure those voices directly inform legislative priorities. \n \n\n📅 Date: Sunday\, December 28\, 2025 \n⏰ Time: 6:00 PM – 8:00 PM PST \n📍 Location: Address provided upon RSVP \n\nParticipants will explore the power dynamics of politics and engage in collaborative discussions to co-develop policy priorities that authentically reflect the needs of Black and Queer communities. \n \n\nFacilitators\nPolitical Analyst NiRae Petty\nNAACP LGBTQ Chair Deaunte Damper \n\nThis is a critical opportunity to unite\, strategize\, and contribute to meaningful policy change. Community participation is essential.
URL:https://naacpaowsac.org/event/2026-lgbtq-policy-agenda-think-tank-session/
CATEGORIES:Events,Featured
ATTACH;FMTTYPE=image/jpeg:https://naacpaowsac.org/wp-content/uploads/2025/12/unnamed.jpg
END:VEVENT
END:VCALENDAR