BEGIN:VCALENDAR
VERSION:2.0
PRODID:-//NAACP - State Area Conference - Alaska Oregon Washington - ECPv6.15.20//NONSGML v1.0//EN
CALSCALE:GREGORIAN
METHOD:PUBLISH
X-WR-CALNAME:NAACP - State Area Conference - Alaska Oregon Washington
X-ORIGINAL-URL:https://naacpaowsac.org
X-WR-CALDESC:Events for NAACP - State Area Conference - Alaska Oregon Washington
REFRESH-INTERVAL;VALUE=DURATION:PT1H
X-Robots-Tag:noindex
X-PUBLISHED-TTL:PT1H
BEGIN:VTIMEZONE
TZID:UTC
BEGIN:STANDARD
TZOFFSETFROM:+0000
TZOFFSETTO:+0000
TZNAME:UTC
DTSTART:20240101T000000
END:STANDARD
END:VTIMEZONE
BEGIN:VEVENT
DTSTART;TZID=UTC:20250829T180000
DTEND;TZID=UTC:20250829T213000
DTSTAMP:20260419T190201
CREATED:20260129T151215Z
LAST-MODIFIED:20260129T151215Z
UID:24633-1756490400-1756503000@naacpaowsac.org
SUMMARY:Minding My Black Owned Business: Community Celebration to Close Out National Black Business Month
DESCRIPTION:📅 Date: Thursday\, August 29\n🕕 Time: 6:00 PM\n📍 Location: JaRays Grill & Lounge\, Capitol Hill\, Seattle\, WA \n\nSeattle\, WA — To close out National Black Business Month\, the community is invited to gather for Minding My Black Owned Business\, an evening of celebration\, connection\, and empowerment at JaRays Grill & Lounge in Capitol Hill. \nThis event shines a spotlight on the vital role Black-owned businesses play in our local economy and across our communities. Attendees can meet featured Black-owned vendors\, hear remarks from elected officials\, and enjoy great food\, including JaRays’ signature BBQ and Cultivate Farms’ Vegan Gumbo. \nMore than a celebration\, this evening is about sustainability and support. Together we will name challenges\, share resources\, and discuss strategies that strengthen the ecosystem for Black entrepreneurship. \n\nEvent at a Glance\n\nWhat: Minding My Black Owned Business — Closing Celebration\nWhen: Thursday\, August 29\, 6:00 PM\nWhere: JaRays Grill & Lounge\, Capitol Hill\, Seattle\, WA\nFeaturing: Black-owned vendors\, remarks by elected officials\, BBQ and vegan gumbo\, community networking\n\n\nVendor Opportunities\nBlack-owned businesses are encouraged to participate as vendors. \nContact: Arlene Hampton · (206) 554-9496 \n\nPresented by NAACP AOWSAC.
URL:https://naacpaowsac.org/event/minding-my-black-owned-business-community-celebration-to-close-out-national-black-business-month/
LOCATION:JaRays Grill & Lounge\, 1000 E Madison St\, Seattle\, WA\, 98122\, United States
CATEGORIES:Economy
ATTACH;FMTTYPE=image/jpeg:https://naacpaowsac.org/wp-content/uploads/2025/08/mmbob_event.jpg
END:VEVENT
END:VCALENDAR