BEGIN:VCALENDAR
VERSION:2.0
PRODID:-//NAACP - State Area Conference - Alaska Oregon Washington - ECPv6.15.20//NONSGML v1.0//EN
CALSCALE:GREGORIAN
METHOD:PUBLISH
X-WR-CALNAME:NAACP - State Area Conference - Alaska Oregon Washington
X-ORIGINAL-URL:https://naacpaowsac.org
X-WR-CALDESC:Events for NAACP - State Area Conference - Alaska Oregon Washington
REFRESH-INTERVAL;VALUE=DURATION:PT1H
X-Robots-Tag:noindex
X-PUBLISHED-TTL:PT1H
BEGIN:VTIMEZONE
TZID:UTC
BEGIN:STANDARD
TZOFFSETFROM:+0000
TZOFFSETTO:+0000
TZNAME:UTC
DTSTART:20250101T000000
END:STANDARD
END:VTIMEZONE
BEGIN:VEVENT
DTSTART;TZID=UTC:20260115T183000
DTEND;TZID=UTC:20260115T200000
DTSTAMP:20260419T064109
CREATED:20260129T151215Z
LAST-MODIFIED:20260129T151215Z
UID:25738-1768501800-1768507200@naacpaowsac.org
SUMMARY:AOWSAC NAACP Executive Board Quarterly Zoom Meeting – January 15\, 2026
DESCRIPTION:The AOWSAC NAACP Executive Board Quarterly Meeting is an important opportunity for executive leadership to convene\, review progress\, and align on priorities for the upcoming quarter. \n \n\n📌 Meeting Details\nDate: January 15\, 2026 \nTime: 6:30 PM – 8:00 PM \nFormat: Virtual (Zoom) \nAudience: Executive Board Members \n\n \n\n💻 Virtual Meeting Access\nThis meeting will be held via Zoom. Connection details will be distributed to Executive Board members in advance of the meeting. \nNote: Please ensure you have access to Zoom prior to the meeting start time. \n\n \n\n✔ Mark Your Calendar\nYour participation is essential to the continued success and strategic direction of the AOWSAC NAACP.
URL:https://naacpaowsac.org/event/aowsac-naacp-executive-board-quarterly-zoom-meeting-january-15-2026/
LOCATION:Zoom\, Zoom\, Remote\, United States
CATEGORIES:Events,Featured
ATTACH;FMTTYPE=image/png:https://naacpaowsac.org/wp-content/uploads/2025/12/ChatGPT-Image-Dec-22-2025-01_11_42-AM.png
END:VEVENT
END:VCALENDAR