BEGIN:VCALENDAR
VERSION:2.0
PRODID:-//NAACP - State Area Conference - Alaska Oregon Washington - ECPv6.15.20//NONSGML v1.0//EN
CALSCALE:GREGORIAN
METHOD:PUBLISH
X-WR-CALNAME:NAACP - State Area Conference - Alaska Oregon Washington
X-ORIGINAL-URL:https://naacpaowsac.org
X-WR-CALDESC:Events for NAACP - State Area Conference - Alaska Oregon Washington
REFRESH-INTERVAL;VALUE=DURATION:PT1H
X-Robots-Tag:noindex
X-PUBLISHED-TTL:PT1H
BEGIN:VTIMEZONE
TZID:UTC
BEGIN:STANDARD
TZOFFSETFROM:+0000
TZOFFSETTO:+0000
TZNAME:UTC
DTSTART:20250101T000000
END:STANDARD
END:VTIMEZONE
BEGIN:VEVENT
DTSTART;TZID=UTC:20260103T123000
DTEND;TZID=UTC:20260103T143000
DTSTAMP:20260419T062353
CREATED:20260129T151215Z
LAST-MODIFIED:20260129T151215Z
UID:25805-1767443400-1767450600@naacpaowsac.org
SUMMARY:State of Black Alaska Town Hall – Part I
DESCRIPTION:The NAACP Alaska Oregon Washington State Area Conference (AOWSAC) invites the community to the State of Black Alaska Town Hall – Part I\, a vital conversation focused on the needs\, priorities\, and future of Black communities in Alaska. \nThis town hall will explore issues impacting Black Alaskans\, highlight key legislation to watch in 2026\, and establish community priorities that guide advocacy efforts statewide. \n \n\n📅 Date: Saturday\, January 3\, 2026 \n⏰ Time: 12:00 PM – 2:30 PM \n\nParticipants may join us either in-person or virtually via Zoom. Lunch will be provided for in-person attendees. \n \n\nIn-Person:\nMountain View Community Center\n315 Price Street\, Anchorage\, AK 99508 \n\n \n\nVirtual Attendance:\nZoom link provided upon RSVP \n\nCommunity insights will support AOWSAC’s 2026 legislative advocacy and shape priorities for advancing the rights\, safety\, and prosperity of Black Alaskans. \n \n\nFeatured Speakers\n\nSenator Elvi Gray-Jackson\nSenator Löki Tobin\nJasmin Smith\, AOWSAC Vice President\n\n\n \n\nEvent at a Glance\n\nWhat: State of Black Alaska Town Hall – Part I\nWhen: January 3\, 2026 | 12:00 PM – 2:30 PM\nWhere: In-person in Anchorage + Virtual Zoom Option\nWhy: To identify community needs and legislative advocacy priorities\nHost: NAACP Alaska Oregon Washington State Area Conference\n\n\n \n\nRSVP or request Zoom access:\n\nvicepresident@naacpaowsac.org\n\nPhone: 907-230-4968
URL:https://naacpaowsac.org/event/state-of-black-alaska-town-hall-part-i/
LOCATION:Mountain View Community Center\, 315 Price Street\, Anchorage\, AK\, 99508\, United States
CATEGORIES:Events,Featured
ATTACH;FMTTYPE=image/jpeg:https://naacpaowsac.org/wp-content/uploads/2025/12/unnamed-1.jpg
END:VEVENT
END:VCALENDAR