BEGIN:VCALENDAR
VERSION:2.0
PRODID:-//NAACP - State Area Conference - Alaska Oregon Washington - ECPv6.15.20//NONSGML v1.0//EN
CALSCALE:GREGORIAN
METHOD:PUBLISH
X-WR-CALNAME:NAACP - State Area Conference - Alaska Oregon Washington
X-ORIGINAL-URL:https://naacpaowsac.org
X-WR-CALDESC:Events for NAACP - State Area Conference - Alaska Oregon Washington
REFRESH-INTERVAL;VALUE=DURATION:PT1H
X-Robots-Tag:noindex
X-PUBLISHED-TTL:PT1H
BEGIN:VTIMEZONE
TZID:UTC
BEGIN:STANDARD
TZOFFSETFROM:+0000
TZOFFSETTO:+0000
TZNAME:UTC
DTSTART:20240101T000000
END:STANDARD
END:VTIMEZONE
BEGIN:VEVENT
DTSTART;TZID=UTC:20251206T110000
DTEND;TZID=UTC:20251206T130000
DTSTAMP:20260419T073629
CREATED:20260129T151214Z
LAST-MODIFIED:20260129T151214Z
UID:25069-1765018800-1765026000@naacpaowsac.org
SUMMARY:Leadership Development: The Doxx Effect – Safety in Advocacy
DESCRIPTION:📅 Date: Saturday\, December 6\, 2025 \n📍 Location: Details provided upon RSVP (Train the Trainers) \n\nBeing outspoken on matters impacting Black lives often comes at a price.\nCivil rights leaders across our region have increasingly become victims of doxxing\, facing digital and physical threats simply for standing up for justice.\nNAACP Alaska Oregon Washington State Area Conference (AOWSAC) invites Executive Committee members to this critical leadership development session: “The Doxx Effect.” \nWhile the NAACP will NEVER back down\, it is imperative that we move STRATEGICALLY.\nThis “Train the Trainers” lecture is designed to equip our leaders with the tools to be fearless\, bold\, and informed.\nWe will cover the “Do’s and Don’ts” of being doxxed\, including how to handle family harassment\, physical threats\, identity theft\, and the distribution of personal photos. \n\nExecutive Committee RSVP\nThis session is vital for our leadership’s safety and resilience.\nPlease call to confirm your attendance and receive participation details. \nRSVP: (206) 235-2973 \n\n\nSession Overview\nEquip yourself with the knowledge to protect your privacy while leading the movement: \nSaturday\, December 6\, 2025\n\n\n\n11:00 AM: Train the Trainers Lecture Begins.\n\nTopic: “What Should I Do?” – Navigating Doxxing Attacks.\nFocus Areas: Workplace harassment\, online safety protocols\, and response strategies.\n\n\n\n\n\n\n\nWhy This Matters\nOur strength lies in our ability to lead without fear.\nBy staying informed and prepared\, we ensure that intimidation tactics cannot silence the voice of the NAACP.\nBe Fearless. Be Bold. Be Informed. \nVisit AOWSAC Website
URL:https://naacpaowsac.org/event/leadership-development-the-doxx-effect-safety-in-advocacy/
CATEGORIES:Events
ATTACH;FMTTYPE=image/jpeg:https://naacpaowsac.org/wp-content/uploads/2025/11/581678292_18073145624247534_1803749176688825783_n.jpg
END:VEVENT
END:VCALENDAR