BEGIN:VCALENDAR
VERSION:2.0
PRODID:-//NAACP - State Area Conference - Alaska Oregon Washington - ECPv6.15.20//NONSGML v1.0//EN
CALSCALE:GREGORIAN
METHOD:PUBLISH
X-ORIGINAL-URL:https://naacpaowsac.org
X-WR-CALDESC:Events for NAACP - State Area Conference - Alaska Oregon Washington
REFRESH-INTERVAL;VALUE=DURATION:PT1H
X-Robots-Tag:noindex
X-PUBLISHED-TTL:PT1H
BEGIN:VTIMEZONE
TZID:UTC
BEGIN:STANDARD
TZOFFSETFROM:+0000
TZOFFSETTO:+0000
TZNAME:UTC
DTSTART:20240101T000000
END:STANDARD
END:VTIMEZONE
BEGIN:VEVENT
DTSTART;TZID=UTC:20251205T170000
DTEND;TZID=UTC:20251205T190000
DTSTAMP:20260419T074458
CREATED:20260129T151214Z
LAST-MODIFIED:20260129T151214Z
UID:25058-1764954000-1764961200@naacpaowsac.org
SUMMARY:Building Bridges: 2025 Annual Community & Law Enforcement Dinner
DESCRIPTION:📅 Date: Friday\, December 5\, 2025 \n📍 Location: Kitsap Conference Center\, 100 Washington Ave\, Bremerton\, WA 98337 \n\nJoin the NAACP Bremerton Unit 1134 for a powerful evening dedicated to unity\, dialogue\, and a shared commitment to racial justice.\nThe Annual Community and Law Enforcement Dinner is more than just a meal\, it is a movement to strengthen the collaboration between our neighborhoods and those sworn to protect them. \nThis event reflects our collective dedication to equity\, safety\, trust\, transparency\, and accountability.\nBy bringing together community members and law enforcement officers\, we aim to facilitate courageous conversations and build bridges that uplift community voices and protect every life.\nYour participation supports vital initiatives including hate crimes awareness\, cultural competency\, and resilience planning. \n\nSecure Your Seat\nBe part of the conversation that shapes a more just and compassionate Kitsap County.\nPlease RSVP directly to the Bremerton Branch to confirm your attendance. \nRSVP via Email \n\n\nEvent at a Glance\nHere is the schedule for our evening of fellowship and progress: \nFriday\, December 5\, 2025\n\n\n\n5:00 PM – 7:00 PM: Community & Law Enforcement Dinner.\n\nDinner & Dialogue at Kitsap Conference Center (100 Washington Ave).\nFocus on Community Empowerment\, Partnerships\, and Hate Crimes Awareness.\n\n\n\n\n\n\n\nWhy We Gather\nMeaningful change begins with mutual respect.\nThis community event fuels our shared vision for a future where barriers are dismantled and justice is accessible to all. \nVisit Bremerton Branch Website
URL:https://naacpaowsac.org/event/building-bridges-2025-annual-community-law-enforcement-dinner/
LOCATION:Kitsap Conference Center\, 100 Washington Ave\, Bremerton\, WA\, 98337\, United States
CATEGORIES:Events
ATTACH;FMTTYPE=image/webp:https://naacpaowsac.org/wp-content/uploads/2025/11/CLEDFlyerAmend2.webp
END:VEVENT
END:VCALENDAR