BEGIN:VCALENDAR
VERSION:2.0
PRODID:-//NAACP - State Area Conference - Alaska Oregon Washington - ECPv6.15.20//NONSGML v1.0//EN
CALSCALE:GREGORIAN
METHOD:PUBLISH
X-WR-CALNAME:NAACP - State Area Conference - Alaska Oregon Washington
X-ORIGINAL-URL:https://naacpaowsac.org
X-WR-CALDESC:Events for NAACP - State Area Conference - Alaska Oregon Washington
REFRESH-INTERVAL;VALUE=DURATION:PT1H
X-Robots-Tag:noindex
X-PUBLISHED-TTL:PT1H
BEGIN:VTIMEZONE
TZID:UTC
BEGIN:STANDARD
TZOFFSETFROM:+0000
TZOFFSETTO:+0000
TZNAME:UTC
DTSTART:20240101T000000
END:STANDARD
END:VTIMEZONE
BEGIN:VEVENT
DTSTART;TZID=UTC:20250827T180000
DTEND;TZID=UTC:20250827T210000
DTSTAMP:20260419T140550
CREATED:20260129T151213Z
LAST-MODIFIED:20260129T151213Z
UID:24642-1756317600-1756328400@naacpaowsac.org
SUMMARY:Belonging and Being Othered: Representation\, Liberation\, Power and the Struggle for Justice
DESCRIPTION:📅 Date: Wednesday\, August 27\, 2025\n🕕 Time: Doors open at 6:00 PM | Program begins at 6:30 PM\n📍 Location: Bridgeview Resource Center\, 505 Omaha Way\, Vancouver\, WA 98661\n🍽️ Dinner: A hot meal will be served \n\nBelonging and Being Othered: Representation\, Liberation\, Power\, and the Struggle for Justice\nTogether\, we will wrestle with the question: “Who gets to belong in America\, and who is kept at the margins?” \nThis panel will explore the deep tensions between belonging and othering in American life. We’ll look at how representation\, systemic power\, and racial justice shape who is seen\, valued\, and free. The conversation will confront hard truths about exclusion and oppression while envisioning a future grounded in liberation\, equity\, and collective healing. \nPanelists\n\nVanessa Neal – VP Diversity Equity Inclusion\, Clark College\nVanessa Gaston – Director\, Community Services\, Clark County\nSiobhana McEwen – Executive Director\, SWEC\nPaul Speer – Retired VP of Development\, Hewlett-Packard\nRev. Michael Jones Jr. – VP & Chair\, Legal Redress and Civil Rights\, NAACP\nFrank So – Executive Director\, Ecumenical Ministries of Oregon\n\n\nAttend In Person or Virtually\nCan’t make it to Vancouver? Join us via livestream and be part of the conversation from wherever you are. \nJoin the Livestream Here \n\n\nEvent at a Glance\n\n6:00 PM: Doors open and dinner served\n6:30 PM: Program begins with panel discussion and community dialogue\n8:30 PM: Closing remarks\n\n\n\nBe Part of the Movement\nTogether\, we will imagine bold possibilities for transformation and collective healing.
URL:https://naacpaowsac.org/event/belonging-and-being-othered-representation-liberation-power-and-the-struggle-for-justice/
CATEGORIES:Race & Justice
ATTACH;FMTTYPE=image/png:https://naacpaowsac.org/wp-content/uploads/2025/08/NAACP-Belonging-and-Being-Othered-Panel.png
END:VEVENT
END:VCALENDAR