BEGIN:VCALENDAR
VERSION:2.0
PRODID:-//NAACP - State Area Conference - Alaska Oregon Washington - ECPv6.15.20//NONSGML v1.0//EN
CALSCALE:GREGORIAN
METHOD:PUBLISH
X-WR-CALNAME:NAACP - State Area Conference - Alaska Oregon Washington
X-ORIGINAL-URL:https://naacpaowsac.org
X-WR-CALDESC:Events for NAACP - State Area Conference - Alaska Oregon Washington
REFRESH-INTERVAL;VALUE=DURATION:PT1H
X-Robots-Tag:noindex
X-PUBLISHED-TTL:PT1H
BEGIN:VTIMEZONE
TZID:UTC
BEGIN:STANDARD
TZOFFSETFROM:+0000
TZOFFSETTO:+0000
TZNAME:UTC
DTSTART:20240101T000000
END:STANDARD
END:VTIMEZONE
BEGIN:VEVENT
DTSTART;VALUE=DATE:20250712
DTEND;VALUE=DATE:20250717
DTSTAMP:20260419T154314
CREATED:20260129T151213Z
LAST-MODIFIED:20260129T151213Z
UID:24559-1752278400-1752710399@naacpaowsac.org
SUMMARY:116th NAACP National Convention — Charlotte\, NC
DESCRIPTION:Mark your calendar for one of the most powerful events of the year. The 116th NAACP National Convention takes place July 12–16\, 2025\, in Charlotte\, North Carolina. This annual gathering brings together leaders\, organizers\, and community members from across the country to strategize\, connect\, and advance our fight for justice and equity. \nMore Info:Visit the official convention page
URL:https://naacpaowsac.org/event/116th-naacp-national-convention-charlotte-nc/
LOCATION:Charlotte\, North Carolina\, Charlotte\, NC\, United States
CATEGORIES:NAACP
ATTACH;FMTTYPE=image/png:https://naacpaowsac.org/wp-content/uploads/2025/06/ChatGPT-Image-Jun-23-2025-03_48_06-PM.png
END:VEVENT
END:VCALENDAR