BEGIN:VCALENDAR
VERSION:2.0
PRODID:-//NAACP - State Area Conference - Alaska Oregon Washington - ECPv6.15.20//NONSGML v1.0//EN
CALSCALE:GREGORIAN
METHOD:PUBLISH
X-WR-CALNAME:NAACP - State Area Conference - Alaska Oregon Washington
X-ORIGINAL-URL:https://naacpaowsac.org
X-WR-CALDESC:Events for NAACP - State Area Conference - Alaska Oregon Washington
REFRESH-INTERVAL;VALUE=DURATION:PT1H
X-Robots-Tag:noindex
X-PUBLISHED-TTL:PT1H
BEGIN:VTIMEZONE
TZID:UTC
BEGIN:STANDARD
TZOFFSETFROM:+0000
TZOFFSETTO:+0000
TZNAME:UTC
DTSTART:20240101T000000
END:STANDARD
END:VTIMEZONE
BEGIN:VEVENT
DTSTART;TZID=UTC:20250628T120000
DTEND;TZID=UTC:20250628T160000
DTSTAMP:20260419T171441
CREATED:20260129T151213Z
LAST-MODIFIED:20260129T151213Z
UID:24516-1751112000-1751126400@naacpaowsac.org
SUMMARY:Philomath PRIDE Celebration 2025
DESCRIPTION:Date: Saturday\, June 28\, 2025Time: 12:00 PM to 4:00 PMLocation: Philomath City Park299 South 23rd Street\, Philomath\, Oregon \nJoin us for Philomath PRIDE\, a vibrant and welcoming celebration of love\, identity\, and unity. This is a family friendly and inclusive event where everyone is welcome. All ages\, all identities\, and all allies are invited. \nEnjoy a joyful afternoon filled with community\, color\, and connection as we come together to uplift LGBTQIA+ voices and honor the beauty of diversity. \nMasks are appreciated and encouraged to help ensure the safety of all participants. \nFor more information\, email philomathpride@gmail.com \nLet us celebrate Pride together\, stronger\, safer\, and more united than ever.
URL:https://naacpaowsac.org/event/philomath-pride-celebration-2025/
LOCATION:Philomath City Park\, 299 South 23rd Street\, Philomath\, OR\, United States
CATEGORIES:NAACP
ATTACH;FMTTYPE=image/png:https://naacpaowsac.org/wp-content/uploads/2025/06/pride.png
END:VEVENT
END:VCALENDAR