BEGIN:VCALENDAR
VERSION:2.0
PRODID:-//NAACP - State Area Conference - Alaska Oregon Washington - ECPv6.15.20//NONSGML v1.0//EN
CALSCALE:GREGORIAN
METHOD:PUBLISH
X-WR-CALNAME:NAACP - State Area Conference - Alaska Oregon Washington
X-ORIGINAL-URL:https://naacpaowsac.org
X-WR-CALDESC:Events for NAACP - State Area Conference - Alaska Oregon Washington
REFRESH-INTERVAL;VALUE=DURATION:PT1H
X-Robots-Tag:noindex
X-PUBLISHED-TTL:PT1H
BEGIN:VTIMEZONE
TZID:UTC
BEGIN:STANDARD
TZOFFSETFROM:+0000
TZOFFSETTO:+0000
TZNAME:UTC
DTSTART:20240101T000000
END:STANDARD
END:VTIMEZONE
BEGIN:VEVENT
DTSTART;TZID=UTC:20250626T100000
DTEND;TZID=UTC:20250626T190000
DTSTAMP:20260419T171450
CREATED:20260129T151213Z
LAST-MODIFIED:20260129T151213Z
UID:24568-1750932000-1750964400@naacpaowsac.org
SUMMARY:Nubian Jam 2025 – Everett\, WA
DESCRIPTION:Nubian Jam 2025 is back and bigger than ever. Join us Saturday\, July 26\, from 10 AM to 7 PM at Forest Park in Everett for a full day of culture\, food\, performances\, music\, and community celebration. \nHosted by the Snohomish County Black Heritage Committee and supported by the NAACP\, this annual event honors the richness of African and African-American heritage. We’ll also have a membership booth\, so swing by and say hello. \nLearn More:nubianjam.com
URL:https://naacpaowsac.org/event/nubian-jam-2025-everett-wa/
LOCATION:Forest Park\, Everett\, WA\, United States
CATEGORIES:NAACP Snohomish County
ATTACH;FMTTYPE=image/png:https://naacpaowsac.org/wp-content/uploads/2025/06/ChatGPT-Image-Jun-23-2025-04_10_21-PM.png
END:VEVENT
END:VCALENDAR