BEGIN:VCALENDAR
VERSION:2.0
PRODID:-//NAACP - State Area Conference - Alaska Oregon Washington - ECPv6.15.20//NONSGML v1.0//EN
CALSCALE:GREGORIAN
METHOD:PUBLISH
X-WR-CALNAME:NAACP - State Area Conference - Alaska Oregon Washington
X-ORIGINAL-URL:https://naacpaowsac.org
X-WR-CALDESC:Events for NAACP - State Area Conference - Alaska Oregon Washington
REFRESH-INTERVAL;VALUE=DURATION:PT1H
X-Robots-Tag:noindex
X-PUBLISHED-TTL:PT1H
BEGIN:VTIMEZONE
TZID:UTC
BEGIN:STANDARD
TZOFFSETFROM:+0000
TZOFFSETTO:+0000
TZNAME:UTC
DTSTART:20240101T000000
END:STANDARD
END:VTIMEZONE
BEGIN:VEVENT
DTSTART;TZID=UTC:20250625T190000
DTEND;TZID=UTC:20250625T210000
DTSTAMP:20260419T171440
CREATED:20260129T151213Z
LAST-MODIFIED:20260129T151213Z
UID:24547-1750878000-1750885200@naacpaowsac.org
SUMMARY:NAACP Snohomish County – Monthly General Membership Meeting
DESCRIPTION:The NAACP Snohomish County Branch invites all members and supporters to our General Membership Meeting\, held virtually on the 4th Tuesday of each month at 7 PM. \nThis is your chance to connect with local leadership\, hear updates on advocacy efforts\, learn about upcoming events\, and find out how to get involved in branch-level initiatives that impact our community directly. \nZoom Registration:Click here to register and join the meeting
URL:https://naacpaowsac.org/event/naacp-snohomish-county-monthly-general-membership-meeting/
LOCATION:Zoom\, Zoom\, Remote\, United States
CATEGORIES:NAACP Snohomish County
ATTACH;FMTTYPE=image/png:https://naacpaowsac.org/wp-content/uploads/2025/06/ChatGPT-Image-Jun-23-2025-03_35_16-PM.png
END:VEVENT
END:VCALENDAR