BEGIN:VCALENDAR
VERSION:2.0
PRODID:-//NAACP - State Area Conference - Alaska Oregon Washington - ECPv6.15.20//NONSGML v1.0//EN
CALSCALE:GREGORIAN
METHOD:PUBLISH
X-ORIGINAL-URL:https://naacpaowsac.org
X-WR-CALDESC:Events for NAACP - State Area Conference - Alaska Oregon Washington
REFRESH-INTERVAL;VALUE=DURATION:PT1H
X-Robots-Tag:noindex
X-PUBLISHED-TTL:PT1H
BEGIN:VTIMEZONE
TZID:UTC
BEGIN:STANDARD
TZOFFSETFROM:+0000
TZOFFSETTO:+0000
TZNAME:UTC
DTSTART:20240101T000000
END:STANDARD
END:VTIMEZONE
BEGIN:VEVENT
DTSTART;TZID=UTC:20250503T100000
DTEND;TZID=UTC:20250503T123000
DTSTAMP:20260419T184733
CREATED:20260129T151213Z
LAST-MODIFIED:20260129T151213Z
UID:23351-1746266400-1746275400@naacpaowsac.org
SUMMARY:Higher Ground – Securing Black Academic Futures
DESCRIPTION:Join the NAACP Alaska\, Oregon\, Washington State Area Conference and the Black Education Strategy Roundtable for Higher Ground\, an empowering event focused on securing Black academic futures. \nThis gathering will spotlight educational equity\, highlight community-driven success strategies\, and amplify the voices of Black students and educators. \n🔹 Let’s rise together to support and transform Black academic achievement across our region.
URL:https://naacpaowsac.org/event/higher-ground-securing-black-academic-futures/
LOCATION:Highline College\, Building 8\, 2400 S 240th St\, Des Moines\, WA\, 98198\, United States
CATEGORIES:NAACP
ATTACH;FMTTYPE=image/jpeg:https://naacpaowsac.org/wp-content/uploads/2025/05/7bbc83c6-cd72-40bc-a2ed-819641f64efa.jpg
END:VEVENT
BEGIN:VEVENT
DTSTART;TZID=UTC:20250503T101500
DTEND;TZID=UTC:20250503T120000
DTSTAMP:20260419T184733
CREATED:20260129T151213Z
LAST-MODIFIED:20260129T151213Z
UID:23355-1746267300-1746273600@naacpaowsac.org
SUMMARY:Legislative Update – Talk with Elected Leaders
DESCRIPTION:Legislative Update – Talk with Elected Leaders \n📅 Dates: March 8\, April 5\, May 3\, June 7\, 2025\n⏰ Time: 10:15 AM\n📍 Location: Kalapuya Building\, 4500 SW Research Way\, Corvallis\, OR\n🔹 Virtual Option Available: Join via Zoom \nStay informed and engaged with your elected representatives! Join the League of Women Voters of Corvallis for a Legislative Update to hear directly from state legislators about the 2025 Legislative Session. \nInvited legislators:\n✔️ Senator Sara Gelser Blouin\n✔️ Senator Dick Anderson\n✔️ Representative Sarah Finger McDonald\n✔️ Representative David Gomberg\n✔️ Representative Shelly Boshart Davis \n🔹 Get updates on current legislative actions and have your questions answered. \nWant to check on introduced bills? Visit OLIS for legislative tracking. \n📌 Attend in person or join virtually! \nFor more details\, visit LWVCorvallis.org.
URL:https://naacpaowsac.org/event/legislative-update-talk-with-elected-leaders-2/
LOCATION:Kalapuya Building\, 4500 SW Research Way\, Corvallis\, OR\, United States
CATEGORIES:NAACP
ATTACH;FMTTYPE=image/jpeg:https://naacpaowsac.org/wp-content/uploads/2025/05/unnamed-3.jpg
END:VEVENT
END:VCALENDAR