BEGIN:VCALENDAR
VERSION:2.0
PRODID:-//NAACP - State Area Conference - Alaska Oregon Washington - ECPv6.15.20//NONSGML v1.0//EN
CALSCALE:GREGORIAN
METHOD:PUBLISH
X-ORIGINAL-URL:https://naacpaowsac.org
X-WR-CALDESC:Events for NAACP - State Area Conference - Alaska Oregon Washington
REFRESH-INTERVAL;VALUE=DURATION:PT1H
X-Robots-Tag:noindex
X-PUBLISHED-TTL:PT1H
BEGIN:VTIMEZONE
TZID:UTC
BEGIN:STANDARD
TZOFFSETFROM:+0000
TZOFFSETTO:+0000
TZNAME:UTC
DTSTART:20240101T000000
END:STANDARD
END:VTIMEZONE
BEGIN:VEVENT
DTSTART;TZID=UTC:20250325T160000
DTEND;TZID=UTC:20250325T180000
DTSTAMP:20260419T184826
CREATED:20260129T151213Z
LAST-MODIFIED:20260129T151213Z
UID:23360-1742918400-1742925600@naacpaowsac.org
SUMMARY:Washington State Reparations Study – A Call to Action
DESCRIPTION:📅 Date: Tuesday\, March 25\, 2025\n⏰ Time: 4:00 PM\n📍 Location: State Capitol – John Cherberg Building\, Room 4\n416 Sid Snyder Ave SW\, Olympia\, WA 98504 \nJoin the NAACP Alaska\, Oregon\, Washington State Area Conference for a powerful discussion on reparations in Washington State. This is a critical moment to push for justice\, healing\, and accountability. Learn what reparations could look like\, and how YOU can help shape the path forward. \nThis is more than a conversation—it’s a call to action. \n🔹 Your voice matters. Be in the room. \nVisit NAACPAOWSAC.org for updates.\n#ReparationsNow #NAACP #JusticeForAll #WashingtonState #NAACPAOW #Reparations
URL:https://naacpaowsac.org/event/washington-state-reparations-study-a-call-to-action/
LOCATION:State Capitol – John Cherberg Building\, Room 4\, 416 Sid Snyder Ave SW\, Olympia\, WA\, 98504\, United States
CATEGORIES:NAACP
ATTACH;FMTTYPE=image/jpeg:https://naacpaowsac.org/wp-content/uploads/2025/05/485679278_18049554149247534_3361949334044561061_n.jpg
END:VEVENT
END:VCALENDAR