BEGIN:VCALENDAR
VERSION:2.0
PRODID:-//NAACP - State Area Conference - Alaska Oregon Washington - ECPv6.15.20//NONSGML v1.0//EN
CALSCALE:GREGORIAN
METHOD:PUBLISH
X-ORIGINAL-URL:https://naacpaowsac.org
X-WR-CALDESC:Events for NAACP - State Area Conference - Alaska Oregon Washington
REFRESH-INTERVAL;VALUE=DURATION:PT1H
X-Robots-Tag:noindex
X-PUBLISHED-TTL:PT1H
BEGIN:VTIMEZONE
TZID:UTC
BEGIN:STANDARD
TZOFFSETFROM:+0000
TZOFFSETTO:+0000
TZNAME:UTC
DTSTART:20240101T000000
END:STANDARD
END:VTIMEZONE
BEGIN:VEVENT
DTSTART;TZID=UTC:20250222T170000
DTEND;TZID=UTC:20250222T210000
DTSTAMP:20260419T171030
CREATED:20260129T151212Z
LAST-MODIFIED:20260129T151212Z
UID:23368-1740243600-1740258000@naacpaowsac.org
SUMMARY:Freedom Fund Celebration 2025 – Join Us for an Evening of Impact!
DESCRIPTION: Event Details: \n Date: Saturday\, February 22\, 2025\n Time: 5 PM (No-Host Bar & Appetizers) | 6-9 PM (Program)\n Location:\nCH2M-Hill Alumni Center\, OSU Campus\n725 SW 26th Street\, Corvallis\, OR 97331\n Keynote Speaker: Sheley Secrest \n Sponsorship Levels Include: \n\nSilver ($1\,500): 2 tickets\, event program listing\, website & social media acknowledgment\nGold ($2\,500): 4 tickets\, event program listing\, website & social media acknowledgment\nPlatinum ($5\,000): 6 tickets\, program ad space\, website & social media acknowledgment\n\n For More Information:\n Email: vp1linnbentonnaacp@gmail.com\n Visit: Linn Benton NAACP Freedom Fund Page \n Secure your spot today!  Get Tickets Here before the February 9 deadline. Don’t miss this opportunity to connect with community leaders and support racial and social justice!
URL:https://naacpaowsac.org/event/freedom-fund-celebration-2025-join-us-for-an-evening-of-impact/
LOCATION:CH2M-Hill Alumni Center\, OSU Campus\, 725 SW 26th Street\, Corvallis\, OR\, 97331\, United States
CATEGORIES:NAACP
ATTACH;FMTTYPE=image/png:https://naacpaowsac.org/wp-content/uploads/2025/05/unnamed-1024x1024-1.png
END:VEVENT
END:VCALENDAR