BEGIN:VCALENDAR
VERSION:2.0
PRODID:-//NAACP - State Area Conference - Alaska Oregon Washington - ECPv6.15.20//NONSGML v1.0//EN
CALSCALE:GREGORIAN
METHOD:PUBLISH
X-ORIGINAL-URL:https://naacpaowsac.org
X-WR-CALDESC:Events for NAACP - State Area Conference - Alaska Oregon Washington
REFRESH-INTERVAL;VALUE=DURATION:PT1H
X-Robots-Tag:noindex
X-PUBLISHED-TTL:PT1H
BEGIN:VTIMEZONE
TZID:UTC
BEGIN:STANDARD
TZOFFSETFROM:+0000
TZOFFSETTO:+0000
TZNAME:UTC
DTSTART:20230101T000000
END:STANDARD
END:VTIMEZONE
BEGIN:VEVENT
DTSTART;TZID=UTC:20241201T183000
DTEND;TZID=UTC:20241201T203000
DTSTAMP:20260419T122103
CREATED:20260129T151212Z
LAST-MODIFIED:20260129T151212Z
UID:23379-1733077800-1733085000@naacpaowsac.org
SUMMARY:Take the Rights Path – World AIDS Day Event
DESCRIPTION:📅 Date: Sunday\, December 1\, 2024\n⏰ Time: 6:30 PM\n📍 Location: Langston Hughes Performing Arts Institute\, 104 17th Ave South\, Seattle\, WA 98144\n🎤 Keynote Speaker: Sheley Secrest\, President of the NAACP Conference for Washington\, Oregon\, and Alaska \nJoin us on World AIDS Day for Take the Rights Path\, a powerful event dedicated to ending HIV through a human rights agenda. This gathering will bring together advocates\, health professionals\, and community leaders to address the ongoing fight against HIV/AIDS and the systemic barriers to healthcare access. \nKeynote speaker Sheley Secrest will provide insight into the intersections of social justice\, health equity\, and civil rights\, emphasizing the importance of community-led solutions. \nA light meal will be provided. \n🔹 Let’s stand together to break stigma\, promote health justice\, and advocate for a future free from HIV/AIDS. \nFor more details\, visit NAACPAOWSAC.org. \n\n\nTags
URL:https://naacpaowsac.org/event/take-the-rights-path-world-aids-day-event/
LOCATION:Langston Hughes Performing Arts Institute\, 104 17th Ave South\, Seattle\, WA\, 98144\, United States
CATEGORIES:NAACP
ATTACH;FMTTYPE=image/jpeg:https://naacpaowsac.org/wp-content/uploads/2025/05/unnamed-2.jpg
END:VEVENT
END:VCALENDAR