BEGIN:VCALENDAR
VERSION:2.0
PRODID:-//NAACP - State Area Conference - Alaska Oregon Washington - ECPv6.15.20//NONSGML v1.0//EN
CALSCALE:GREGORIAN
METHOD:PUBLISH
X-WR-CALNAME:NAACP - State Area Conference - Alaska Oregon Washington
X-ORIGINAL-URL:https://naacpaowsac.org
X-WR-CALDESC:Events for NAACP - State Area Conference - Alaska Oregon Washington
REFRESH-INTERVAL;VALUE=DURATION:PT1H
X-Robots-Tag:noindex
X-PUBLISHED-TTL:PT1H
BEGIN:VTIMEZONE
TZID:UTC
BEGIN:STANDARD
TZOFFSETFROM:+0000
TZOFFSETTO:+0000
TZNAME:UTC
DTSTART:20230101T000000
END:STANDARD
END:VTIMEZONE
BEGIN:VEVENT
DTSTART;TZID=UTC:20241012T130000
DTEND;TZID=UTC:20241012T150000
DTSTAMP:20260419T104228
CREATED:20260129T151212Z
LAST-MODIFIED:20260129T151212Z
UID:23399-1728738000-1728745200@naacpaowsac.org
SUMMARY:NAACP SnoCo Voter Registration Drive
DESCRIPTION: Date: October 12\, 2024\n Time: 1:00 PM – 3:00 PM\n Location: 3426 Broadway\, Suite 202\, Everett\, WA 98201 \nJoin us for the NAACP SnoCo Voter Registration Drive\, hosted by the NAACP Snohomish County in partnership with Millennia Ministries. This event\, sponsored by Inatai and SEPAC\, aims to provide voter registration services to the community. Whether you’re registering for the first time or updating your information\, this drive is designed to make the process easy and accessible. Refreshments will be provided. Make your voice heard this election season—every vote counts! \nVoter Registration Link: Snohomish County Registration
URL:https://naacpaowsac.org/event/naacp-snoco-voter-registration-drive/
LOCATION:3426 Broadway\, 3426 Broadway\, Suite 202\, Everett\, WA\, 98201\, United States
CATEGORIES:NAACP
ATTACH;FMTTYPE=image/png:https://naacpaowsac.org/wp-content/uploads/2025/05/unnamed-1.png
END:VEVENT
END:VCALENDAR