BEGIN:VCALENDAR
VERSION:2.0
PRODID:-//NAACP - State Area Conference - Alaska Oregon Washington - ECPv6.15.20//NONSGML v1.0//EN
CALSCALE:GREGORIAN
METHOD:PUBLISH
X-WR-CALNAME:NAACP - State Area Conference - Alaska Oregon Washington
X-ORIGINAL-URL:https://naacpaowsac.org
X-WR-CALDESC:Events for NAACP - State Area Conference - Alaska Oregon Washington
REFRESH-INTERVAL;VALUE=DURATION:PT1H
X-Robots-Tag:noindex
X-PUBLISHED-TTL:PT1H
BEGIN:VTIMEZONE
TZID:UTC
BEGIN:STANDARD
TZOFFSETFROM:+0000
TZOFFSETTO:+0000
TZNAME:UTC
DTSTART:20230101T000000
END:STANDARD
END:VTIMEZONE
BEGIN:VEVENT
DTSTART;TZID=UTC:20241005T113000
DTEND;TZID=UTC:20241005T130000
DTSTAMP:20260419T090958
CREATED:20260129T151212Z
LAST-MODIFIED:20260129T151212Z
UID:23414-1728127800-1728133200@naacpaowsac.org
SUMMARY:Washington State Attorney General Candidate Forum
DESCRIPTION:Join us for an insightful discussion with the candidates for Washington State Attorney General\, Nick Brown and Pete Serrano. This in-person forum will be held on Saturday\, October 5th at 11:30 am at New Beginnings Christian Fellowship\, 19300 108th Ave SE\, Kent\, WA 98031. Come hear directly from the candidates about their vision for the future of Washington State. The event is moderated by Sheley Secrest\, Regional President of the NAACP\, and Craig Sims\, Attorney at Law. Don’t miss this opportunity to engage with the community and learn about the issues that matter most to our state.
URL:https://naacpaowsac.org/event/washington-state-attorney-general-candidate-forum/
LOCATION:New Beginnings Christian Fellowship\, 19300 108th Ave SE\, Kent\, WA\, 98031\, United States
CATEGORIES:NAACP
ATTACH;FMTTYPE=image/jpeg:https://naacpaowsac.org/wp-content/uploads/2025/05/unnamed-1.jpg
END:VEVENT
END:VCALENDAR