BEGIN:VCALENDAR
VERSION:2.0
PRODID:-//NAACP - State Area Conference - Alaska Oregon Washington - ECPv6.15.20//NONSGML v1.0//EN
CALSCALE:GREGORIAN
METHOD:PUBLISH
X-ORIGINAL-URL:https://naacpaowsac.org
X-WR-CALDESC:Events for NAACP - State Area Conference - Alaska Oregon Washington
REFRESH-INTERVAL;VALUE=DURATION:PT1H
X-Robots-Tag:noindex
X-PUBLISHED-TTL:PT1H
BEGIN:VTIMEZONE
TZID:UTC
BEGIN:STANDARD
TZOFFSETFROM:+0000
TZOFFSETTO:+0000
TZNAME:UTC
DTSTART:20230101T000000
END:STANDARD
END:VTIMEZONE
BEGIN:VEVENT
DTSTART;TZID=UTC:20240925T170000
DTEND;TZID=UTC:20240925T190000
DTSTAMP:20260419T092239
CREATED:20260129T151213Z
LAST-MODIFIED:20260129T151213Z
UID:23411-1727283600-1727290800@naacpaowsac.org
SUMMARY:Building Restorative Communities Presents: Circle Up
DESCRIPTION:🗓 Date: Wednesday\, September 25\n⏰ Time: 5:00 PM – 7:00 PM PST\n📍 Location: Spokane Public Library – Liberty Park Branch \nJoin us for a free screening of Circle Up\, a powerful documentary film by Julie Mallozzi\, presented by Building Restorative Communities\, a Spokane NAACP Initiative. This event will explore the importance of restorative justice and community building. Have questions? Email us at brcspokane@gmail.com for more information. \n#CircleUp\, #RestorativeJustice\, #CommunityBuilding\, #BuildingRestorativeCommunities\, #NAACPSpokane\, #SpokaneEvents\, #DocumentaryScreening\, #SpokaneLibrary\, #JusticeForAll\, #FreeEvent
URL:https://naacpaowsac.org/event/building-restorative-communities-presents-circle-up/
LOCATION:Spokane Public Library – Liberty Park Branch
CATEGORIES:NAACP
ATTACH;FMTTYPE=image/png:https://naacpaowsac.org/wp-content/uploads/2025/05/unnamed.png
END:VEVENT
END:VCALENDAR